BEGIN:VCALENDAR
VERSION:2.0
PRODID:-//lukas magazine - ECPv6.15.17.1//NONSGML v1.0//EN
CALSCALE:GREGORIAN
METHOD:PUBLISH
X-ORIGINAL-URL:https://lukasmagazine.com
X-WR-CALDESC:Events for lukas magazine
REFRESH-INTERVAL;VALUE=DURATION:PT1H
X-Robots-Tag:noindex
X-PUBLISHED-TTL:PT1H
BEGIN:VTIMEZONE
TZID:America/Los_Angeles
BEGIN:DAYLIGHT
TZOFFSETFROM:-0800
TZOFFSETTO:-0700
TZNAME:PDT
DTSTART:20200308T100000
END:DAYLIGHT
BEGIN:STANDARD
TZOFFSETFROM:-0700
TZOFFSETTO:-0800
TZNAME:PST
DTSTART:20201101T090000
END:STANDARD
BEGIN:DAYLIGHT
TZOFFSETFROM:-0800
TZOFFSETTO:-0700
TZNAME:PDT
DTSTART:20210314T100000
END:DAYLIGHT
BEGIN:STANDARD
TZOFFSETFROM:-0700
TZOFFSETTO:-0800
TZNAME:PST
DTSTART:20211107T090000
END:STANDARD
BEGIN:DAYLIGHT
TZOFFSETFROM:-0800
TZOFFSETTO:-0700
TZNAME:PDT
DTSTART:20220313T100000
END:DAYLIGHT
BEGIN:STANDARD
TZOFFSETFROM:-0700
TZOFFSETTO:-0800
TZNAME:PST
DTSTART:20221106T090000
END:STANDARD
END:VTIMEZONE
BEGIN:VEVENT
DTSTART;TZID=America/Los_Angeles:20210513T180000
DTEND;TZID=America/Los_Angeles:20210513T220000
DTSTAMP:20260422T153057
CREATED:20210420T225631Z
LAST-MODIFIED:20210420T225827Z
UID:10000014-1620928800-1620943200@lukasmagazine.com
SUMMARY:DTLA Art Walk
DESCRIPTION:Second Thursday of each month.  Downtown Los Angeles Art Walk\, featuring exhibitions in Downtown’s Galleries and Pop-Ups\, visit the Art Walk Lounge\, 634 S. Spring. Pick up a free map at the Lounge.  \nThursday\, May 13th\, 2021 @ 6:00 pm – 10:00 pm\nHistoric Core\nFree\nhttp://www.downtownartwalk.org
URL:https://lukasmagazine.com/event/dtla-art-walk/
ATTACH;FMTTYPE=image/png:https://lukasmagazine.com/wp-content/uploads/2021/04/art-walk-dtla-2021-may.png
END:VEVENT
END:VCALENDAR